Workbook

Sheet Dashboard
A1: EXECUTIVE FINANCIAL DASHBOARD
A4: TOTAL PEMASUKAN | B4: =SUM(Transaksi!$G$4:$G$100)
A5: TOTAL PENGELUARAN | B5: =SUM(Transaksi!$H$4:$H$100)
A6: SALDO AKHIR (NET) | B6: =B4-B5
A8: Analisis Bulanan
A9: Bulan | B9: Total Pemasukan | C9: Total Pengeluaran | D9: Net Savings
A10: Januari | B10: =SUMIF(Transaksi!$C$4:$C$100, A10, Transaksi!$G$4:$G$100) | C10: =SUMIF(Transaksi!$C$4:$C$100, A10, Transaksi!$H$4:$H$100) | D10: =B10-C10
A11: Februari | B11: =SUMIF(Transaksi!$C$4:$C$100, A11, Transaksi!$G$4:$G$100) | C11: =SUMIF(Transaksi!$C$4:$C$100, A11, Transaksi!$H$4:$H$100) | D11: =B11-C11
A12: Maret | B12: =SUMIF(Transaksi!$C$4:$C$100, A12, Transaksi!$G$4:$G$100) | C12: =SUMIF(Transaksi!$C$4:$C$100, A12, Transaksi!$H$4:$H$100) | D12: =B12-C12
A13: April | B13: =SUMIF(Transaksi!$C$4:$C$100, A13, Transaksi!$G$4:$G$100) | C13: =SUMIF(Transaksi!$C$4:$C$100, A13, Transaksi!$H$4:$H$100) | D13: =B13-C13
A14: Mei | B14: =SUMIF(Transaksi!$C$4:$C$100, A14, Transaksi!$G$4:$G$100) | C14: =SUMIF(Transaksi!$C$4:$C$100, A14, Transaksi!$H$4:$H$100) | D14: =B14-C14
A15: Juni | B15: =SUMIF(Transaksi!$C$4:$C$100, A15, Transaksi!$G$4:$G$100) | C15: =SUMIF(Transaksi!$C$4:$C$100, A15, Transaksi!$H$4:$H$100) | D15: =B15-C15
A16: Juli | B16: =SUMIF(Transaksi!$C$4:$C$100, A16, Transaksi!$G$4:$G$100) | C16: =SUMIF(Transaksi!$C$4:$C$100, A16, Transaksi!$H$4:$H$100) | D16: =B16-C16
A17: Agustus | B17: =SUMIF(Transaksi!$C$4:$C$100, A17, Transaksi!$G$4:$G$100) | C17: =SUMIF(Transaksi!$C$4:$C$100, A17, Transaksi!$H$4:$H$100) | D17: =B17-C17
A18: September | B18: =SUMIF(Transaksi!$C$4:$C$100, A18, Transaksi!$G$4:$G$100) | C18: =SUMIF(Transaksi!$C$4:$C$100, A18, Transaksi!$H$4:$H$100) | D18: =B18-C18
A19: Oktober | B19: =SUMIF(Transaksi!$C$4:$C$100, A19, Transaksi!$G$4:$G$100) | C19: =SUMIF(Transaksi!$C$4:$C$100, A19, Transaksi!$H$4:$H$100) | D19: =B19-C19
A20: November | B20: =SUMIF(Transaksi!$C$4:$C$100, A20, Transaksi!$G$4:$G$100) | C20: =SUMIF(Transaksi!$C$4:$C$100, A20, Transaksi!$H$4:$H$100) | D20: =B20-C20
A21: Desember | B21: =SUMIF(Transaksi!$C$4:$C$100, A21, Transaksi!$G$4:$G$100) | C21: =SUMIF(Transaksi!$C$4:$C$100, A21, Transaksi!$H$4:$H$100) | D21: =B21-C21
A22: Total Tahunan | B22: =SUM(B10:B21) | C22: =SUM(C10:C21) | D22: =SUM(D10:D21)

Sheet Transaksi
A1: LOG TRANSAKSI HARIAN LENGKAP
A3: No | B3: Tanggal | C3: Bulan | D3: Kategori | E3: Sub-Kategori | F3: Deskripsi / Metode | G3: Pemasukan | H3: Pengeluaran | I3: Saldo Kumulatif
A4: 1 | B4: 2026-01-01 | C4: Januari | D4: Kebutuhan Pokok | E4: Belanja Bulanan | F4: Grosir Supermarket | G4: 0 | H4: 750000 | I4: =G4-H4
A5: 2 | B5: 2026-01-02 | C5: Januari | D5: Pendapatan Utama | E5: Gaji Pokok | F5: Transfer Kantor | G5: 7500000 | H5: 0 | I5: =I4+G5-H5
A6: 3 | B6: 2026-01-03 | C6: Januari | D6: Transportasi | E6: Bensin | F6: Pertamina | G6: 0 | H6: 150000 | I6: =I5+G6-H6
A7: 4 | B7: 2026-01-05 | C7: Januari | D7: Hiburan | E7: Streaming & Film | F7: Langganan Netflix | G7: 0 | H7: 186000 | I7: =I6+G7-H7
A8: 5 | B8: 2026-01-10 | C8: Januari | D8: Pendapatan Sampingan | E8: Bonus Proyek | F8: Freelance Desain | G8: 1500000 | H8: 0 | I8: =I7+G8-H8
A9: =IF(B9="","",ROW()-3) | C9: =IF(B9="","",TEXT(B9,"mmmm")) | I9: =IF(B9="","",I8+G9-H9)
A10: =IF(B10="","",ROW()-3) | C10: =IF(B10="","",TEXT(B10,"mmmm")) | I10: =IF(B10="","",I9+G10-H10)
A11: =IF(B11="","",ROW()-3) | C11: =IF(B11="","",TEXT(B11,"mmmm")) | I11: =IF(B11="","",I10+G11-H11)
A12: =IF(B12="","",ROW()-3) | C12: =IF(B12="","",TEXT(B12,"mmmm")) | I12: =IF(B12="","",I11+G12-H12)
A13: =IF(B13="","",ROW()-3) | C13: =IF(B13="","",TEXT(B13,"mmmm")) | I13: =IF(B13="","",I12+G13-H13)
A14: =IF(B14="","",ROW()-3) | C14: =IF(B14="","",TEXT(B14,"mmmm")) | I14: =IF(B14="","",I13+G14-H14)
A15: =IF(B15="","",ROW()-3) | C15: =IF(B15="","",TEXT(B15,"mmmm")) | I15: =IF(B15="","",I14+G15-H15)
A16: =IF(B16="","",ROW()-3) | C16: =IF(B16="","",TEXT(B16,"mmmm")) | I16: =IF(B16="","",I15+G16-H16)
A17: =IF(B17="","",ROW()-3) | C17: =IF(B17="","",TEXT(B17,"mmmm")) | I17: =IF(B17="","",I16+G17-H17)
A18: =IF(B18="","",ROW()-3) | C18: =IF(B18="","",TEXT(B18,"mmmm")) | I18: =IF(B18="","",I17+G18-H18)
A19: =IF(B19="","",ROW()-3) | C19: =IF(B19="","",TEXT(B19,"mmmm")) | I19: =IF(B19="","",I18+G19-H19)
A20: =IF(B20="","",ROW()-3) | C20: =IF(B20="","",TEXT(B20,"mmmm")) | I20: =IF(B20="","",I19+G20-H20)
... A99: =IF(B99="","",ROW()-3) | C99: =IF(B99="","",TEXT(B99,"mmmm")) | I99: =IF(B99="","",I98+G99-H99)

Sheet Budget
A1: ALOKASI ANGGARAN & MONITORING
A3: Kategori Pengeluaran | B3: Alokasi Anggaran (Limit) | C3: Realisasi Penggunaan | D3: Sisa Kuota Anggaran | E3: Status Evaluasi
A4: Kebutuhan Pokok | B4: 2500000 | C4: =SUMIF(Transaksi!$D$4:$D$100, A4, Transaksi!$H$4:$H$100) | D4: =B4-C4 | E4: =IF(D4<0, "OVERBUDGET!", "AMAN")
A5: Transportasi | B5: 800000 | C5: =SUMIF(Transaksi!$D$4:$D$100, A5, Transaksi!$H$4:$H$100) | D5: =B5-C5 | E5: =IF(D5<0, "OVERBUDGET!", "AMAN")
A6: Hiburan | B6: 500000 | C6: =SUMIF(Transaksi!$D$4:$D$100, A6, Transaksi!$H$4:$H$100) | D6: =B6-C6 | E6: =IF(D6<0, "OVERBUDGET!", "AMAN")
A7: Tagihan & Utilitas | B7: 1200000 | C7: =SUMIF(Transaksi!$D$4:$D$100, A7, Transaksi!$H$4:$H$100) | D7: =B7-C7 | E7: =IF(D7<0, "OVERBUDGET!", "AMAN")
A8: Investasi & Tabungan | B8: 2000000 | C8: =SUMIF(Transaksi!$D$4:$D$100, A8, Transaksi!$H$4:$H$100) | D8: =B8-C8 | E8: =IF(D8<0, "OVERBUDGET!", "AMAN")
A9: Total Pengeluaran | B9: =SUM(B4:B8) | C9: =SUM(C4:C8) | D9: =SUM(D4:D8)
